BEGIN:VCALENDAR
VERSION:2.0
PRODID:-//Unified West Lincoln - ECPv6.15.20//NONSGML v1.0//EN
CALSCALE:GREGORIAN
METHOD:PUBLISH
X-ORIGINAL-URL:https://www.unifiedwestlincoln.com
X-WR-CALDESC:Events for Unified West Lincoln
REFRESH-INTERVAL;VALUE=DURATION:PT1H
X-Robots-Tag:noindex
X-PUBLISHED-TTL:PT1H
BEGIN:VTIMEZONE
TZID:America/Toronto
BEGIN:DAYLIGHT
TZOFFSETFROM:-0500
TZOFFSETTO:-0400
TZNAME:EDT
DTSTART:20230312T070000
END:DAYLIGHT
BEGIN:STANDARD
TZOFFSETFROM:-0400
TZOFFSETTO:-0500
TZNAME:EST
DTSTART:20231105T060000
END:STANDARD
BEGIN:DAYLIGHT
TZOFFSETFROM:-0500
TZOFFSETTO:-0400
TZNAME:EDT
DTSTART:20240310T070000
END:DAYLIGHT
BEGIN:STANDARD
TZOFFSETFROM:-0400
TZOFFSETTO:-0500
TZNAME:EST
DTSTART:20241103T060000
END:STANDARD
BEGIN:DAYLIGHT
TZOFFSETFROM:-0500
TZOFFSETTO:-0400
TZNAME:EDT
DTSTART:20250309T070000
END:DAYLIGHT
BEGIN:STANDARD
TZOFFSETFROM:-0400
TZOFFSETTO:-0500
TZNAME:EST
DTSTART:20251102T060000
END:STANDARD
END:VTIMEZONE
BEGIN:VEVENT
DTSTART;TZID=America/Toronto:20240413T100000
DTEND;TZID=America/Toronto:20240413T130000
DTSTAMP:20260421T060508
CREATED:20240220T162554Z
LAST-MODIFIED:20240407T213058Z
UID:21388-1713002400-1713013200@www.unifiedwestlincoln.com
SUMMARY:Niagara Parks Job Fair
DESCRIPTION:More than a “Summer Job”! Join a respected government employer at Canada’s top leisure tourism destination. \nBuild your resume in a diverse work environment\, close to natural wonders. \nEnjoy flexible schedules\, free uniforms\, potential promotions\, and perks like six sets of Niagara Parks passes. Upcoming Job Fairs on March 2\, and April 13 (10 AM \n– 1 PM) at Niagara Parks Power Station. \nExplore opportunities at https:// www.niagaraparks.com/jobs/.
URL:https://www.unifiedwestlincoln.com/events/niagara-parks-job-fair-2024-04-13/
ATTACH;FMTTYPE=image/jpeg:https://www.unifiedwestlincoln.com/wp-content/uploads/2024/03/image0.jpeg
END:VEVENT
END:VCALENDAR