BEGIN:VCALENDAR
VERSION:2.0
PRODID:-//Unified West Lincoln - ECPv6.15.20//NONSGML v1.0//EN
CALSCALE:GREGORIAN
METHOD:PUBLISH
X-WR-CALNAME:Unified West Lincoln
X-ORIGINAL-URL:https://www.unifiedwestlincoln.com
X-WR-CALDESC:Events for Unified West Lincoln
REFRESH-INTERVAL;VALUE=DURATION:PT1H
X-Robots-Tag:noindex
X-PUBLISHED-TTL:PT1H
BEGIN:VTIMEZONE
TZID:America/Toronto
BEGIN:DAYLIGHT
TZOFFSETFROM:-0500
TZOFFSETTO:-0400
TZNAME:EDT
DTSTART:20230312T070000
END:DAYLIGHT
BEGIN:STANDARD
TZOFFSETFROM:-0400
TZOFFSETTO:-0500
TZNAME:EST
DTSTART:20231105T060000
END:STANDARD
BEGIN:DAYLIGHT
TZOFFSETFROM:-0500
TZOFFSETTO:-0400
TZNAME:EDT
DTSTART:20240310T070000
END:DAYLIGHT
BEGIN:STANDARD
TZOFFSETFROM:-0400
TZOFFSETTO:-0500
TZNAME:EST
DTSTART:20241103T060000
END:STANDARD
BEGIN:DAYLIGHT
TZOFFSETFROM:-0500
TZOFFSETTO:-0400
TZNAME:EDT
DTSTART:20250309T070000
END:DAYLIGHT
BEGIN:STANDARD
TZOFFSETFROM:-0400
TZOFFSETTO:-0500
TZNAME:EST
DTSTART:20251102T060000
END:STANDARD
END:VTIMEZONE
BEGIN:VEVENT
DTSTART;TZID=America/Toronto:20240907T090000
DTEND;TZID=America/Toronto:20240907T160000
DTSTAMP:20260421T084303
CREATED:20240205T215604Z
LAST-MODIFIED:20240407T212539Z
UID:21246-1725699600-1725724800@www.unifiedwestlincoln.com
SUMMARY:Rise Up Niagara for CDHF
DESCRIPTION:CDHF’s RISEUp for Digestive Diseases Cycling Fundraiser is back\, and this year we’re doing it bigger and better in the heart of Niagara-on-the-lake!RISEUp for Digestive Diseases takes place annually to support the crucial initiatives of the Canadian Digestive Foundation (CDHF) in promoting a future where individuals can thrive in digestive wellness. CDHF’s programs\, encompassing educational campaigns and digital tools\, equip people with the knowledge and skills necessary to prioritize their digestive health\, identify potential issues\, and empower individuals to take action with their digestive diseases. Your participation in CDHF’s RISEUp for Digestive Diseases contributes directly to funding these impactful programs\, reaching countless individuals with transformative digestive health education each year\, and funding critical research done by the Canadian Association of Gastroenterology.Join us for an unparalleled cycling adventure with new routes\, breathtaking scenery\, and a commitment to supporting a meaningful cause.
URL:https://www.unifiedwestlincoln.com/events/rise-up-niagara-for-cdhf/
CATEGORIES:Fundraisers,Health & Wellness
ATTACH;FMTTYPE=image/jpeg:https://www.unifiedwestlincoln.com/wp-content/uploads/2024/02/CDHF_logo_tagline_CMYK.jpeg
END:VEVENT
END:VCALENDAR