BEGIN:VCALENDAR
VERSION:2.0
PRODID:-//Unified West Lincoln - ECPv6.15.20//NONSGML v1.0//EN
CALSCALE:GREGORIAN
METHOD:PUBLISH
X-ORIGINAL-URL:https://www.unifiedwestlincoln.com
X-WR-CALDESC:Events for Unified West Lincoln
REFRESH-INTERVAL;VALUE=DURATION:PT1H
X-Robots-Tag:noindex
X-PUBLISHED-TTL:PT1H
BEGIN:VTIMEZONE
TZID:America/Toronto
BEGIN:DAYLIGHT
TZOFFSETFROM:-0500
TZOFFSETTO:-0400
TZNAME:EDT
DTSTART:20230312T070000
END:DAYLIGHT
BEGIN:STANDARD
TZOFFSETFROM:-0400
TZOFFSETTO:-0500
TZNAME:EST
DTSTART:20231105T060000
END:STANDARD
BEGIN:DAYLIGHT
TZOFFSETFROM:-0500
TZOFFSETTO:-0400
TZNAME:EDT
DTSTART:20240310T070000
END:DAYLIGHT
BEGIN:STANDARD
TZOFFSETFROM:-0400
TZOFFSETTO:-0500
TZNAME:EST
DTSTART:20241103T060000
END:STANDARD
BEGIN:DAYLIGHT
TZOFFSETFROM:-0500
TZOFFSETTO:-0400
TZNAME:EDT
DTSTART:20250309T070000
END:DAYLIGHT
BEGIN:STANDARD
TZOFFSETFROM:-0400
TZOFFSETTO:-0500
TZNAME:EST
DTSTART:20251102T060000
END:STANDARD
END:VTIMEZONE
BEGIN:VEVENT
DTSTART;TZID=America/Toronto:20241107T180000
DTEND;TZID=America/Toronto:20241107T180000
DTSTAMP:20260421T040057
CREATED:20241103T041101Z
LAST-MODIFIED:20241103T041101Z
UID:22955-1731002400-1731002400@www.unifiedwestlincoln.com
SUMMARY:Dinner with Deacon
DESCRIPTION:Join Deacon Stephen for an amazing dinner experience at the Butcher & Banker Pub on Thursday\, November 7th at 6:00 pm. \n 
URL:https://www.unifiedwestlincoln.com/events/dinner-with-deacon/
LOCATION:The Butcher & Banker Pub\, 4520 Ontario St.\, Beamsville\, Ontario\, L0R1B5\, Canada
CATEGORIES:Food & Wine
ATTACH;FMTTYPE=image/png:https://www.unifiedwestlincoln.com/wp-content/uploads/2024/11/Ivory-Illustrative-Dinner-Party-Invitation.png
END:VEVENT
BEGIN:VEVENT
DTSTART;TZID=America/Toronto:20240817T130000
DTEND;TZID=America/Toronto:20240817T160000
DTSTAMP:20260421T040057
CREATED:20240727T170222Z
LAST-MODIFIED:20240729T154724Z
UID:22864-1723899600-1723910400@www.unifiedwestlincoln.com
SUMMARY:Peach Sundaes
DESCRIPTION:Join us for PEACH SUNDAES on Saturday\, August 17th\, from 1 PM to 4 PM at St. Luke’s Community Hall. This delightful event features delicious peach sundaes available for a freewill offering. Don’t miss this sweet opportunity to enjoy tasty treats and connect with the community!
URL:https://www.unifiedwestlincoln.com/events/peach-sundaes/
LOCATION:St Lukes Community Hall\, Station Street\, Smithville\, Ontario\, L0R 2A0\, Canada
CATEGORIES:Food & Wine
ATTACH;FMTTYPE=image/png:https://www.unifiedwestlincoln.com/wp-content/uploads/2024/07/Peach-Illustrated-Summer-Festival-Poster-Menu.png
END:VEVENT
END:VCALENDAR