BEGIN:VCALENDAR
VERSION:2.0
PRODID:-//Unified West Lincoln - ECPv6.15.20//NONSGML v1.0//EN
CALSCALE:GREGORIAN
METHOD:PUBLISH
X-WR-CALNAME:Unified West Lincoln
X-ORIGINAL-URL:https://www.unifiedwestlincoln.com
X-WR-CALDESC:Events for Unified West Lincoln
REFRESH-INTERVAL;VALUE=DURATION:PT1H
X-Robots-Tag:noindex
X-PUBLISHED-TTL:PT1H
BEGIN:VTIMEZONE
TZID:America/Toronto
BEGIN:DAYLIGHT
TZOFFSETFROM:-0500
TZOFFSETTO:-0400
TZNAME:EDT
DTSTART:20230312T070000
END:DAYLIGHT
BEGIN:STANDARD
TZOFFSETFROM:-0400
TZOFFSETTO:-0500
TZNAME:EST
DTSTART:20231105T060000
END:STANDARD
BEGIN:DAYLIGHT
TZOFFSETFROM:-0500
TZOFFSETTO:-0400
TZNAME:EDT
DTSTART:20240310T070000
END:DAYLIGHT
BEGIN:STANDARD
TZOFFSETFROM:-0400
TZOFFSETTO:-0500
TZNAME:EST
DTSTART:20241103T060000
END:STANDARD
BEGIN:DAYLIGHT
TZOFFSETFROM:-0500
TZOFFSETTO:-0400
TZNAME:EDT
DTSTART:20250309T070000
END:DAYLIGHT
BEGIN:STANDARD
TZOFFSETFROM:-0400
TZOFFSETTO:-0500
TZNAME:EST
DTSTART:20251102T060000
END:STANDARD
END:VTIMEZONE
BEGIN:VEVENT
DTSTART;TZID=America/Toronto:20240930T090000
DTEND;TZID=America/Toronto:20241001T130000
DTSTAMP:20260421T060226
CREATED:20240729T153707Z
LAST-MODIFIED:20240916T211315Z
UID:22876-1727686800-1727787600@www.unifiedwestlincoln.com
SUMMARY:Mental Health First Aid Training
DESCRIPTION:Join us for Mental Health First Aid Training on September 30th and October 1st\, from 9 AM to 1 PM\, at St. Luke’s Community Hall. Taught by Charlene McCullough\, this course starts with an online portion to be completed before the in-person sessions. The total cost of the course is typically $200\, but thanks to the support of the St. Luke’s community\, participants only pay $45 each. \nWith limited spots available\, registration is required. This course will enhance your ability to recognize common mental health problems\, increase your confidence in providing initial help to others\, and teach you how to improve your own mental health. Upon completion\, you will receive a Mental Health First Aid certification. Don’t miss this valuable opportunity to gain essential skills and knowledge!
URL:https://www.unifiedwestlincoln.com/events/mental-health-first-aid-training-2/
LOCATION:St Lukes Community Hall\, Station Street\, Smithville\, Ontario\, L0R 2A0\, Canada
CATEGORIES:Classes,Education
ATTACH;FMTTYPE=image/png:https://www.unifiedwestlincoln.com/wp-content/uploads/2024/07/New-dates-first-aid-training.png
ORGANIZER;CN="Stephen Lasalle":MAILTO:Stephen.lasalle@unifiedwestlincoln.ca
END:VEVENT
END:VCALENDAR